BEGIN:VCALENDAR
VERSION:2.0
PRODID:-//VOX - ECPv6.15.20//NONSGML v1.0//EN
CALSCALE:GREGORIAN
METHOD:PUBLISH
X-WR-CALNAME:VOX
X-ORIGINAL-URL:https://vox.divinity.edu.au
X-WR-CALDESC:Events for VOX
REFRESH-INTERVAL;VALUE=DURATION:PT1H
X-Robots-Tag:noindex
X-PUBLISHED-TTL:PT1H
BEGIN:VTIMEZONE
TZID:Australia/Melbourne
BEGIN:STANDARD
TZOFFSETFROM:+1100
TZOFFSETTO:+1000
TZNAME:AEST
DTSTART:20250405T160000
END:STANDARD
BEGIN:DAYLIGHT
TZOFFSETFROM:+1000
TZOFFSETTO:+1100
TZNAME:AEDT
DTSTART:20251004T160000
END:DAYLIGHT
BEGIN:STANDARD
TZOFFSETFROM:+1100
TZOFFSETTO:+1000
TZNAME:AEST
DTSTART:20260404T160000
END:STANDARD
BEGIN:DAYLIGHT
TZOFFSETFROM:+1000
TZOFFSETTO:+1100
TZNAME:AEDT
DTSTART:20261003T160000
END:DAYLIGHT
BEGIN:STANDARD
TZOFFSETFROM:+1100
TZOFFSETTO:+1000
TZNAME:AEST
DTSTART:20270403T160000
END:STANDARD
BEGIN:DAYLIGHT
TZOFFSETFROM:+1000
TZOFFSETTO:+1100
TZNAME:AEDT
DTSTART:20271002T160000
END:DAYLIGHT
END:VTIMEZONE
BEGIN:VEVENT
DTSTART;TZID=Australia/Melbourne:20260602T100000
DTEND;TZID=Australia/Melbourne:20260602T163000
DTSTAMP:20260423T021240
CREATED:20260331T051440Z
LAST-MODIFIED:20260331T052108Z
UID:35742-1780394400-1780417800@vox.divinity.edu.au
SUMMARY:University of Divinity Teaching Conference
DESCRIPTION:I could do that! Collective wisdom for assuring learning\n\n\nThe 2026 University of Divinity Teaching Conference is scheduled for Tuesday 2 June (the day prior to Research Day). The theme for this year’s conference is ‘I could do that! Collective wisdom for assuring learning‘. Assurance of Learning is the most important part of higher education effectiveness and student success in attaining their learning outcomes. \nAll staff of the University (Colleges and SGR) are welcome to attend and to present. \nEvent details\nDate/Time: \nTuesday 2 June 2026\, 10:00am-4:30pm AEST \nLocations \n\nMelbourne: hosted at the St Paschal Campus (90 Albion Road\, Box Hill VIC)\nAdelaide Hub: hosted by Uniting College for Leadership and Theology\, (312 Sir Donald Bradman Dr\, Brooklyn Park SA)\nOnline via Zoom\n\nMore information and Register Now\n\n\nTrinity College Theological SchoolTrinity College Theological School is a college of the University of Divinity from the Anglican tradition\, based in Melbourne\, Victoria.
URL:https://vox.divinity.edu.au/event/university-of-divinity-teaching-conference/
LOCATION:VIC
CATEGORIES:All Colleges,Conference
ATTACH;FMTTYPE=image/png:https://vox.divinity.edu.au/wp-content/uploads/2026/03/Vox-banner-teaching-conference.png
END:VEVENT
BEGIN:VEVENT
DTSTART;TZID=Australia/Melbourne:20260603T090000
DTEND;TZID=Australia/Melbourne:20260603T160000
DTSTAMP:20260423T021240
CREATED:20260331T045743Z
LAST-MODIFIED:20260401T230751Z
UID:35736-1780477200-1780502400@vox.divinity.edu.au
SUMMARY:University of Divinity Research Day
DESCRIPTION:The University of Divinity warmly invites you to join us for our annual Research Day on Wednesday 3 June 2026. \nThe day will comprise sessions of 20-minute papers and one-hour discussion panels from our academic staff\, HDR students\, librarians and members of our affiliated Networks. Papers and panels will feature research on the themes of transformation\, leadership\, collaboration and diversity\, as well our researchers’ work in the divinity disciplines more broadly. \nWe look forward to announcing our keynote presenter soon and releasing the full event program in mid-April. \n  \nEvent details\nDate/Time: \nWednesday 3 June 2026\, 9:00am-4:00pm AEST \nLocations \n\nMelbourne: hosted at the St Paschal Campus (90 Albion Road\, Box Hill VIC)\nAdelaide Hub: hosted by Uniting College for Leadership and Theology\, (312 Sir Donald Bradman Dr\, Brooklyn Park SA)\nOnline via Zoom (links for each stream and the keynote presentation will be provided in the event program)\n\n  \nRegister to attend in person or online\nRegistration is required for both in-person and online attendance. We’ll keep you up to date with information about attending in person and will send you the Zoom links ahead of the event. \nRegister Now\nPlease note: if you have proposed a paper or to convene panel\, you have also already registered to attend. \n  \nFor enquiries\, please contact the University’s Research Administrative Officer\, Dr Paul Daniels. \nTrinity College Theological SchoolTrinity College Theological School is a college of the University of Divinity from the Anglican tradition\, based in Melbourne\, Victoria.
URL:https://vox.divinity.edu.au/event/university-of-divinity-research-day/
LOCATION:VIC
CATEGORIES:All Colleges,Conference,Research
ATTACH;FMTTYPE=image/png:https://vox.divinity.edu.au/wp-content/uploads/2026/03/Vox-banner-research-day-2.png
END:VEVENT
BEGIN:VEVENT
DTSTART;VALUE=DATE:20260629
DTEND;VALUE=DATE:20260701
DTSTAMP:20260423T021240
CREATED:20260415T223509Z
LAST-MODIFIED:20260415T223509Z
UID:35813-1782691200-1782863999@vox.divinity.edu.au
SUMMARY:The dignity we share: Interfaith conference
DESCRIPTION:The Dignity We Share: Jewish\, Christian\, and Muslim Perspectives on Faith\, Identity\, and Human Worth\nThree great traditions all claim a belief in the intrinsic dignity of every human being but have these beliefs failed in practice? \nJoin leading scholars and faith leaders from Judaism\, Christianity\, and Islam as we explore the meaning and limits of human dignity. This conference moves beyond shared ideals to ask harder questions: Where have our traditions fallen short\, and what tensions\, silences\, and contested ideas continue to shape how dignity\, identity\, and belonging are understood today? \n\nFeaturing keynote speakers Dr Jerusha Rhodes\, Dr Joshua Ralston\, and Rabbi Alison Conyer\, the program will examine how religious traditions have both shaped and strained moral responsibility in contexts of exclusion\, inequality\, and global tension\, challenging participants to reckon honestly with the past and reimagine more just and compassionate futures. \n  \nKeynote speakers\n\nRabbi Allison Conyer (Senior Rabbi\, Temple Beth Israel\, Melbourne): A distinguished and globally recognised rabbi\, Rabbi Allison Conyer brings extensive experience in Jewish education\, interfaith dialogue\, social action and a deep commitment to Israel and community engagement. \nDr Joshua Ralston (Reader in Christian-Muslim Relations\, University of Edinburgh): Joshua Ralston is Reader in Christian-Muslim Relations at the School of Divinity\, University of Edinburgh and director and co-founder of the Christian-Muslim Studies Network funded by the Henry Luce Foundation. \nDr Jerusha Rhodes (Associate Professor of Islamic Studies\, Union Theological Seminary): Her research focuses on interreligious engagement and religious pluralism\, comparative theology\, and Muslima theology. \n  \nOpening Dinner\nMonday 29 June\, 6.30 – 8.30pm \nA C C Farran Hall\, Trinity College\, 100 Royal Parade\, Parkville VIC \nTickets: $45 (full price) | $30 (concession) \n  \nConference\nTuesday 30 June\, 9am – 4.30pm \nA series of keynote presentations and a panel discussion. \nTrinity College\, 100 Royal Parade\, Parkville VIC \nTickets: $75 (full price) | $35 (concession) Includes morning & afternoon tea and lunch. \n  \nRegistration\nTickets can be purchased through Trybooking. \nBook Now\n  \nEnquiries\nFor any enquiries\, please contact tcts@trinity.edu.au \n  \nBy registering for this conference\, you as a delegate are committing to engaging in any discussion and dialogue (whether in private or public) in a respectful and professional manner. \nTrinity College Theological SchoolTrinity College Theological School is a college of the University of Divinity from the Anglican tradition\, based in Melbourne\, Victoria.
URL:https://vox.divinity.edu.au/event/the-dignity-we-share-interfaith-conference/
LOCATION:Trinity College Theological School\, 100 Royal Parade\, Parkville\, VIC\, 3000\, Australia
CATEGORIES:Conference,Trinity College Theological School
ATTACH;FMTTYPE=image/jpeg:https://vox.divinity.edu.au/wp-content/uploads/2026/04/Vox-event-2026-06-Trinity-conference-banner.jpg
ORGANIZER;CN="Trinity College Theological School":MAILTO:theologyevents@trinity.edu.au
END:VEVENT
END:VCALENDAR