BEGIN:VCALENDAR
VERSION:2.0
PRODID:-//VOX - ECPv6.15.20//NONSGML v1.0//EN
CALSCALE:GREGORIAN
METHOD:PUBLISH
X-WR-CALNAME:VOX
X-ORIGINAL-URL:https://vox.divinity.edu.au
X-WR-CALDESC:Events for VOX
REFRESH-INTERVAL;VALUE=DURATION:PT1H
X-Robots-Tag:noindex
X-PUBLISHED-TTL:PT1H
BEGIN:VTIMEZONE
TZID:Australia/Brisbane
BEGIN:STANDARD
TZOFFSETFROM:+1000
TZOFFSETTO:+1000
TZNAME:AEST
DTSTART:20250101T000000
END:STANDARD
END:VTIMEZONE
BEGIN:VEVENT
DTSTART;TZID=Australia/Brisbane:20260523T093000
DTEND;TZID=Australia/Brisbane:20260523T123000
DTSTAMP:20260423T021354
CREATED:20260408T071314Z
LAST-MODIFIED:20260408T072458Z
UID:35773-1779528600-1779539400@vox.divinity.edu.au
SUMMARY:St Francis College Open Day 2026
DESCRIPTION:If you’re curious about theology\, looking to deepen your faith\, exploring ministry opportunities or considering professional development\, our Open Day is a great opportunity to: \n🌿 Discover flexible study options – online & on-campus \n🌿 Meet our faculty and chat with current students \n🌿 Learn about scholarships\, support\, and study pathways \n🌿 Enjoy refreshments and good conversation (on-site) \n🌿 Ask about subjects available \nWhether you join us in person at St Francis College or online from wherever you are … We are a learning community that values thoughtful engagement with Scripture\, grounded in Anglican tradition\, open to new ideas\, and committed to forming leaders for service in the Anglican Church and wider society. From Brisbane to regional Queensland and beyond\, we welcome future students\, faith seekers\, and professionals into a learning community. \nCome with questions. Leave with possibilities. \n  \nTime and Date\n9.30 am – 12.30pm AEST\, Saturday 23 May 2026 \nFormat and Location\nHybrid\, join us in person at St Francis College\, 233 Milton Road\, Milton QLD 4066  or online via zoom (register below). \n  \nRegister to attend\nSt Francis CollegeSt Francis College is a college of the University of Divinity from the Anglican tradition\, based in Brisbane\, Queensland.
URL:https://vox.divinity.edu.au/event/st-francis-college-open-day-2026/
LOCATION:St Francis College\, 233 Milton Road\, Milton\, QLD\, 4064\, Australia
CATEGORIES:Hybrid (Online and In-person),Open Day,St Francis College,Study with us
ATTACH;FMTTYPE=image/jpeg:https://vox.divinity.edu.au/wp-content/uploads/2026/04/VOXevent2026-Stfrancisopenday.jpg
ORGANIZER;CN="St Francis College":MAILTO:admin@ministryeducation.org.au
END:VEVENT
BEGIN:VEVENT
DTSTART;TZID=Australia/Brisbane:20260609T173000
DTEND;TZID=Australia/Brisbane:20260609T203000
DTSTAMP:20260423T021354
CREATED:20260408T072416Z
LAST-MODIFIED:20260415T010544Z
UID:35778-1781026200-1781037000@vox.divinity.edu.au
SUMMARY:Felix Arnott Lecture with The Reverend Dr Elizabeth J Smith AM
DESCRIPTION:In our own accent: Australian English in worship and mission\nWhat is our Australian Anglican liturgical accent? How has it evolved? How does it relate to the versions of Australian English that are spoken outside our church buildings? How well does our liturgical language equip us\, not only to pray together\, but also to talk about the Good News and the things of the Spirit with those who don’t speak our insider dialect? And if our liturgical language needs to keep evolving\, what might it start to sound like? \nJoin us for refreshments from 5:30 PM\, followed by the lecture commencing at 6:00 PM. Attendance is available both in person and online\, making it easy for you to be part of this engaging event wherever you are. \nStay tuned for the livestream link or registration details\, and we look forward to welcoming you for an evening of thought-provoking discussion and community connection. \nThe Reverend Dr Elizabeth J Smith AM\nThe Reverend Dr Elizabeth J Smith AM has been a member of the General Synod Liturgy Commission since 1997. Ordained deacon in 1987 and priest in 1993\, Elizabeth has served as parish priest in the suburbs of the Diocese of Melbourne and Mission Priest in the regional mining town of Kalgoorlie in the Diocese of Perth. From 2008 to 2015 she was Mission Development Coordinator for the Diocese of Perth\, providing resources and training for lay people and clergy in parishes\, chaplaincies\, school and agencies. Elizabeth is known for her singable\, inclusive-language hymn texts. She has also written many fresh\, accessible\, contextually-appropriate prayer texts for Anglicans. She now travels and teaches\, sharing skills for creating and using those “other suitable words” that A Prayer Book for Australia encourages Anglicans to develop for lively liturgy in your context. \nTime and Date\n5.30 pm – 8.30pm AEST\, 9 June 2026 \nFormat and Location\nHybrid\, join us in person at St Francis College\, 233 Milton Road\, Milton QLD 4066  or online via zoom (register below). \nRegister\nSt Francis CollegeSt Francis College is a college of the University of Divinity from the Anglican tradition\, based in Brisbane\, Queensland.
URL:https://vox.divinity.edu.au/event/felix-arnott-lecture-with-the-reverend-dr-elizabeth-j-smith-am/
LOCATION:St Francis College\, 233 Milton Road\, Milton\, QLD\, 4064\, Australia
CATEGORIES:Hybrid (Online and In-person),Public Lecture,St Francis College
ATTACH;FMTTYPE=image/webp:https://vox.divinity.edu.au/wp-content/uploads/2026/04/VOXevent-felix-arnott-2026.webp
ORGANIZER;CN="St Francis College":MAILTO:admin@ministryeducation.org.au
END:VEVENT
END:VCALENDAR